BEGIN:VCALENDAR
VERSION:2.0
PRODID:-//UB-Event
TZID:Europe/Zurich
X-WR-TIMEZONE:Europe/Zurich
CALSCALE:GREGORIAN
BEGIN:VEVENT
SUMMARY:PUBLIC IMAGE LTD This Is Not The Last Tour
UID:218721
DTSTART;TZID=Europe/Zurich;VALUE=DATE-TIME:20260523T200000
DTEND;TZID=Europe/Zurich;VALUE=DATE-TIME:20260523T220000
LAST-MODIFIED;TZID=Europe/Zurich;VALUE=DATE-TIME:20251203T091127
DTSTAMP;VALUE=DATE-TIME:20260523T200000Z
LOCATION:SiMM CITY, Simmeringer Hauptstraße 96a, 1110 Wien
URL://www.xn--untergrund-blttle-2qb.ch/events/218721/public-image-ltd-this-is-not-the-last-tour-simm-city-wien.html
END:VEVENT
BEGIN:VTIMEZONE
TZID:Europe/Zurich
X-LIC-LOCATION:Europe/Zurich
BEGIN:STANDARD
DTSTART;VALUE=DATE-TIME:20260523T200000
TZNAME:CET
TZOFFSETFROM:+0200
TZOFFSETTO:+0100
END:STANDARD
BEGIN:DAYLIGHT
DTSTART;VALUE=DATE-TIME:20260523T200000
TZNAME:CEST
TZOFFSETFROM:+0100
TZOFFSETTO:+0200
END:DAYLIGHT
BEGIN:STANDARD
DTSTART;VALUE=DATE-TIME:20260523T200000
TZNAME:CET
TZOFFSETFROM:+0200
TZOFFSETTO:+0100
END:STANDARD
END:VTIMEZONE
END:VCALENDAR