BEGIN:VCALENDAR
VERSION:2.0
PRODID:-//UB-Event
TZID:Europe/Zurich
X-WR-TIMEZONE:Europe/Zurich
CALSCALE:GREGORIAN
BEGIN:VEVENT
SUMMARY:Public Image Ltd
UID:218317
DTSTART;TZID=Europe/Zurich;VALUE=DATE-TIME:20260509T210000
DTEND;TZID=Europe/Zurich;VALUE=DATE-TIME:20260509T230000
LAST-MODIFIED;TZID=Europe/Zurich;VALUE=DATE-TIME:20251202T090605
DTSTAMP;VALUE=DATE-TIME:20260509T210000Z
LOCATION:Mojo Club, Reeperbahn 1, 20359 Hamburg
URL://www.xn--untergrund-blttle-2qb.ch/events/218317/public-image-ltd-mojo-club-hamburg.html
END:VEVENT
BEGIN:VTIMEZONE
TZID:Europe/Zurich
X-LIC-LOCATION:Europe/Zurich
BEGIN:STANDARD
DTSTART;VALUE=DATE-TIME:20260509T210000
TZNAME:CET
TZOFFSETFROM:+0200
TZOFFSETTO:+0100
END:STANDARD
BEGIN:DAYLIGHT
DTSTART;VALUE=DATE-TIME:20260509T210000
TZNAME:CEST
TZOFFSETFROM:+0100
TZOFFSETTO:+0200
END:DAYLIGHT
BEGIN:STANDARD
DTSTART;VALUE=DATE-TIME:20260509T210000
TZNAME:CET
TZOFFSETFROM:+0200
TZOFFSETTO:+0100
END:STANDARD
END:VTIMEZONE
END:VCALENDAR