BEGIN:VCALENDAR
VERSION:2.0
PRODID:-//UB-Event
TZID:Europe/Zurich
X-WR-TIMEZONE:Europe/Zurich
CALSCALE:GREGORIAN
BEGIN:VEVENT
SUMMARY:Cœur De Pirate
UID:217610
DTSTART;TZID=Europe/Zurich;VALUE=DATE-TIME:20261117T210000
DTEND;TZID=Europe/Zurich;VALUE=DATE-TIME:20261117T230000
LAST-MODIFIED;TZID=Europe/Zurich;VALUE=DATE-TIME:20251125T092624
DTSTAMP;VALUE=DATE-TIME:20261117T210000Z
LOCATION:Musikcafe X-TRA, Limmatstrasse 118, 8031 Zürich
URL://www.xn--untergrund-blttle-2qb.ch/events/217610/coeur-de-pirate-musikcafe-im-x-tra-zuerich.html
END:VEVENT
BEGIN:VTIMEZONE
TZID:Europe/Zurich
X-LIC-LOCATION:Europe/Zurich
BEGIN:STANDARD
DTSTART;VALUE=DATE-TIME:20261117T210000
TZNAME:CET
TZOFFSETFROM:+0200
TZOFFSETTO:+0100
END:STANDARD
BEGIN:DAYLIGHT
DTSTART;VALUE=DATE-TIME:20261117T210000
TZNAME:CEST
TZOFFSETFROM:+0100
TZOFFSETTO:+0200
END:DAYLIGHT
BEGIN:STANDARD
DTSTART;VALUE=DATE-TIME:20261117T210000
TZNAME:CET
TZOFFSETFROM:+0200
TZOFFSETTO:+0100
END:STANDARD
END:VTIMEZONE
END:VCALENDAR