BEGIN:VCALENDAR
VERSION:2.0
PRODID:-//UB-Event
TZID:Europe/Zurich
X-WR-TIMEZONE:Europe/Zurich
CALSCALE:GREGORIAN
BEGIN:VEVENT
SUMMARY:Orcutt Shelley Miller
UID:217421
DTSTART;TZID=Europe/Zurich;VALUE=DATE-TIME:20260501T210000
DTEND;TZID=Europe/Zurich;VALUE=DATE-TIME:20260501T230000
LAST-MODIFIED;TZID=Europe/Zurich;VALUE=DATE-TIME:20251125T090710
DTSTAMP;VALUE=DATE-TIME:20260501T210000Z
LOCATION:Bad Bonn, Bonn 2, 3186 Düdingen
URL://www.xn--untergrund-blttle-2qb.ch/events/217421/orcutt-shelley-miller-bad-bonn-duedingen.html
END:VEVENT
BEGIN:VTIMEZONE
TZID:Europe/Zurich
X-LIC-LOCATION:Europe/Zurich
BEGIN:STANDARD
DTSTART;VALUE=DATE-TIME:20260501T210000
TZNAME:CET
TZOFFSETFROM:+0200
TZOFFSETTO:+0100
END:STANDARD
BEGIN:DAYLIGHT
DTSTART;VALUE=DATE-TIME:20260501T210000
TZNAME:CEST
TZOFFSETFROM:+0100
TZOFFSETTO:+0200
END:DAYLIGHT
BEGIN:STANDARD
DTSTART;VALUE=DATE-TIME:20260501T210000
TZNAME:CET
TZOFFSETFROM:+0200
TZOFFSETTO:+0100
END:STANDARD
END:VTIMEZONE
END:VCALENDAR