BEGIN:VCALENDAR
VERSION:2.0
PRODID:-//UB-Event
TZID:Europe/Zurich
X-WR-TIMEZONE:Europe/Zurich
CALSCALE:GREGORIAN
BEGIN:VEVENT
SUMMARY:Steiner & Madlaina
UID:216094
DTSTART;TZID=Europe/Zurich;VALUE=DATE-TIME:20261030T210000
DTEND;TZID=Europe/Zurich;VALUE=DATE-TIME:20261030T230000
LAST-MODIFIED;TZID=Europe/Zurich;VALUE=DATE-TIME:20251120T085507
DTSTAMP;VALUE=DATE-TIME:20261030T210000Z
LOCATION:Kaserne, Klybeckstrasse 1b, 4057 Basel
URL://www.xn--untergrund-blttle-2qb.ch/events/216094/steiner-madlaina-kaserne-basel.html
END:VEVENT
BEGIN:VTIMEZONE
TZID:Europe/Zurich
X-LIC-LOCATION:Europe/Zurich
BEGIN:STANDARD
DTSTART;VALUE=DATE-TIME:20261030T210000
TZNAME:CET
TZOFFSETFROM:+0200
TZOFFSETTO:+0100
END:STANDARD
BEGIN:DAYLIGHT
DTSTART;VALUE=DATE-TIME:20261030T210000
TZNAME:CEST
TZOFFSETFROM:+0100
TZOFFSETTO:+0200
END:DAYLIGHT
BEGIN:STANDARD
DTSTART;VALUE=DATE-TIME:20261030T210000
TZNAME:CET
TZOFFSETFROM:+0200
TZOFFSETTO:+0100
END:STANDARD
END:VTIMEZONE
END:VCALENDAR