BEGIN:VCALENDAR
VERSION:2.0
PRODID:-//UB-Event
TZID:Europe/Zurich
X-WR-TIMEZONE:Europe/Zurich
CALSCALE:GREGORIAN
BEGIN:VEVENT
SUMMARY:Audio88 & Yassin "Neues Album 2025" Tour
UID:214556
DTSTART;TZID=Europe/Zurich;VALUE=DATE-TIME:20260617T210000
DTEND;TZID=Europe/Zurich;VALUE=DATE-TIME:20260617T230000
LAST-MODIFIED;TZID=Europe/Zurich;VALUE=DATE-TIME:20251104T063830
DTSTAMP;VALUE=DATE-TIME:20260617T210000Z
LOCATION:Skaters Palace, Dahlweg 126, 48153 Münster
URL://www.xn--untergrund-blttle-2qb.ch/events/214556/audio88-yassin-neues-album-2025-tour-skaters-palace-muenster.html
END:VEVENT
BEGIN:VTIMEZONE
TZID:Europe/Zurich
X-LIC-LOCATION:Europe/Zurich
BEGIN:STANDARD
DTSTART;VALUE=DATE-TIME:20260617T210000
TZNAME:CET
TZOFFSETFROM:+0200
TZOFFSETTO:+0100
END:STANDARD
BEGIN:DAYLIGHT
DTSTART;VALUE=DATE-TIME:20260617T210000
TZNAME:CEST
TZOFFSETFROM:+0100
TZOFFSETTO:+0200
END:DAYLIGHT
BEGIN:STANDARD
DTSTART;VALUE=DATE-TIME:20260617T210000
TZNAME:CET
TZOFFSETFROM:+0200
TZOFFSETTO:+0100
END:STANDARD
END:VTIMEZONE
END:VCALENDAR