BEGIN:VCALENDAR
VERSION:2.0
PRODID:-//UB-Event
TZID:Europe/Zurich
X-WR-TIMEZONE:Europe/Zurich
CALSCALE:GREGORIAN
BEGIN:VEVENT
SUMMARY:FAU gewerkschaftliche Beratung
UID:213405
DTSTART;TZID=Europe/Zurich;VALUE=DATE-TIME:20260601T200000
DTEND;TZID=Europe/Zurich;VALUE=DATE-TIME:20260601T220000
LAST-MODIFIED;TZID=Europe/Zurich;VALUE=DATE-TIME:20251028T102148
DTSTAMP;VALUE=DATE-TIME:20260601T200000Z
LOCATION:Rasthaus Freiburg, Adlerstraße 12, 79098 Freiburg im Breisgau
URL://www.xn--untergrund-blttle-2qb.ch/events/213405/fau-gewerkschaftliche-beratung-rasthaus-freiburg-freiburg-im-breisgau.html
END:VEVENT
BEGIN:VTIMEZONE
TZID:Europe/Zurich
X-LIC-LOCATION:Europe/Zurich
BEGIN:STANDARD
DTSTART;VALUE=DATE-TIME:20260601T200000
TZNAME:CET
TZOFFSETFROM:+0200
TZOFFSETTO:+0100
END:STANDARD
BEGIN:DAYLIGHT
DTSTART;VALUE=DATE-TIME:20260601T200000
TZNAME:CEST
TZOFFSETFROM:+0100
TZOFFSETTO:+0200
END:DAYLIGHT
BEGIN:STANDARD
DTSTART;VALUE=DATE-TIME:20260601T200000
TZNAME:CET
TZOFFSETFROM:+0200
TZOFFSETTO:+0100
END:STANDARD
END:VTIMEZONE
END:VCALENDAR