BEGIN:VCALENDAR
VERSION:2.0
PRODID:-//UB-Event
TZID:Europe/Zurich
X-WR-TIMEZONE:Europe/Zurich
CALSCALE:GREGORIAN
BEGIN:VEVENT
SUMMARY:Element Of Crime
UID:211047
DTSTART;TZID=Europe/Zurich;VALUE=DATE-TIME:20260605T210000
DTEND;TZID=Europe/Zurich;VALUE=DATE-TIME:20260605T230000
LAST-MODIFIED;TZID=Europe/Zurich;VALUE=DATE-TIME:20251021T060709
DTSTAMP;VALUE=DATE-TIME:20260605T210000Z
LOCATION:Cafe Mokka, Allmendstrasse 14, 3600 Thun
URL://www.xn--untergrund-blttle-2qb.ch/events/211047/element-of-crime-cafe-mokka-thun.html
END:VEVENT
BEGIN:VTIMEZONE
TZID:Europe/Zurich
X-LIC-LOCATION:Europe/Zurich
BEGIN:STANDARD
DTSTART;VALUE=DATE-TIME:20260605T210000
TZNAME:CET
TZOFFSETFROM:+0200
TZOFFSETTO:+0100
END:STANDARD
BEGIN:DAYLIGHT
DTSTART;VALUE=DATE-TIME:20260605T210000
TZNAME:CEST
TZOFFSETFROM:+0100
TZOFFSETTO:+0200
END:DAYLIGHT
BEGIN:STANDARD
DTSTART;VALUE=DATE-TIME:20260605T210000
TZNAME:CET
TZOFFSETFROM:+0200
TZOFFSETTO:+0100
END:STANDARD
END:VTIMEZONE
END:VCALENDAR