BEGIN:VCALENDAR
VERSION:2.0
PRODID:-//UB-Event
TZID:Europe/Zurich
X-WR-TIMEZONE:Europe/Zurich
CALSCALE:GREGORIAN
BEGIN:VEVENT
SUMMARY:ANCST Mischung Aus Grindcore
UID:209490
DTSTART;TZID=Europe/Zurich;VALUE=DATE-TIME:20251010T210000
DTEND;TZID=Europe/Zurich;VALUE=DATE-TIME:20251010T230000
LAST-MODIFIED;TZID=Europe/Zurich;VALUE=DATE-TIME:20251003T063810
DTSTAMP;VALUE=DATE-TIME:20251010T210000Z
LOCATION:Jugendzentrum Kessel, Wilhelmstraße 12, 77654 Offenburg
URL://www.xn--untergrund-blttle-2qb.ch/events/209490/ancst-mischung-aus-grindcore-jugendzentrum-kessel-offenburg.html
END:VEVENT
BEGIN:VTIMEZONE
TZID:Europe/Zurich
X-LIC-LOCATION:Europe/Zurich
BEGIN:STANDARD
DTSTART;VALUE=DATE-TIME:20251010T210000
TZNAME:CET
TZOFFSETFROM:+0200
TZOFFSETTO:+0100
END:STANDARD
BEGIN:DAYLIGHT
DTSTART;VALUE=DATE-TIME:20251010T210000
TZNAME:CEST
TZOFFSETFROM:+0100
TZOFFSETTO:+0200
END:DAYLIGHT
BEGIN:STANDARD
DTSTART;VALUE=DATE-TIME:20251010T210000
TZNAME:CET
TZOFFSETFROM:+0200
TZOFFSETTO:+0100
END:STANDARD
END:VTIMEZONE
END:VCALENDAR