BEGIN:VCALENDAR
VERSION:2.0
PRODID:-//UB-Event
TZID:Europe/Zurich
X-WR-TIMEZONE:Europe/Zurich
CALSCALE:GREGORIAN
BEGIN:VEVENT
SUMMARY:Andreas Gabalier EIN HULAPALU AUF UNS
UID:208149
DTSTART;TZID=Europe/Zurich;VALUE=DATE-TIME:20251021T210000
DTEND;TZID=Europe/Zurich;VALUE=DATE-TIME:20251021T230000
LAST-MODIFIED;TZID=Europe/Zurich;VALUE=DATE-TIME:20250921T063823
DTSTAMP;VALUE=DATE-TIME:20251021T210000Z
LOCATION:Wiener Stadthalle, Roland-Rainer-Platz 1, 1150 Wien
URL://www.xn--untergrund-blttle-2qb.ch/events/208149/andreas-gabalier-ein-hulapalu-auf-uns-wiener-stadthalle-wien.html
END:VEVENT
BEGIN:VTIMEZONE
TZID:Europe/Zurich
X-LIC-LOCATION:Europe/Zurich
BEGIN:STANDARD
DTSTART;VALUE=DATE-TIME:20251021T210000
TZNAME:CET
TZOFFSETFROM:+0200
TZOFFSETTO:+0100
END:STANDARD
BEGIN:DAYLIGHT
DTSTART;VALUE=DATE-TIME:20251021T210000
TZNAME:CEST
TZOFFSETFROM:+0100
TZOFFSETTO:+0200
END:DAYLIGHT
BEGIN:STANDARD
DTSTART;VALUE=DATE-TIME:20251021T210000
TZNAME:CET
TZOFFSETFROM:+0200
TZOFFSETTO:+0100
END:STANDARD
END:VTIMEZONE
END:VCALENDAR