BEGIN:VCALENDAR
VERSION:2.0
PRODID:-//UB-Event
TZID:Europe/Zurich
X-WR-TIMEZONE:Europe/Zurich
CALSCALE:GREGORIAN
BEGIN:VEVENT
SUMMARY:Black Sea Dahu
UID:193672
DTSTART;TZID=Europe/Zurich;VALUE=DATE-TIME:20260508T200000
DTEND;TZID=Europe/Zurich;VALUE=DATE-TIME:20260508T220000
LAST-MODIFIED;TZID=Europe/Zurich;VALUE=DATE-TIME:20250528T025205
DTSTAMP;VALUE=DATE-TIME:20260508T200000Z
LOCATION:Rote Fabrik (Aktionshalle), Seestrasse 395, 8038 Zürich
URL://www.xn--untergrund-blttle-2qb.ch/events/193672/black-sea-dahu-rote-fabrik-aktionshalle-zuerich.html
END:VEVENT
BEGIN:VTIMEZONE
TZID:Europe/Zurich
X-LIC-LOCATION:Europe/Zurich
BEGIN:STANDARD
DTSTART;VALUE=DATE-TIME:20260508T200000
TZNAME:CET
TZOFFSETFROM:+0200
TZOFFSETTO:+0100
END:STANDARD
BEGIN:DAYLIGHT
DTSTART;VALUE=DATE-TIME:20260508T200000
TZNAME:CEST
TZOFFSETFROM:+0100
TZOFFSETTO:+0200
END:DAYLIGHT
BEGIN:STANDARD
DTSTART;VALUE=DATE-TIME:20260508T200000
TZNAME:CET
TZOFFSETFROM:+0200
TZOFFSETTO:+0100
END:STANDARD
END:VTIMEZONE
END:VCALENDAR