BEGIN:VCALENDAR
VERSION:2.0
PRODID:-//UB-Event
TZID:Europe/Zurich
X-WR-TIMEZONE:Europe/Zurich
CALSCALE:GREGORIAN
BEGIN:VEVENT
SUMMARY:IGfem bei der KriLit
UID:137295
DTSTART;TZID=Europe/Zurich;VALUE=DATE-TIME:20260516T120000
DTEND;TZID=Europe/Zurich;VALUE=DATE-TIME:20260516T140000
LAST-MODIFIED;TZID=Europe/Zurich;VALUE=DATE-TIME:20260413T204818
DTSTAMP;VALUE=DATE-TIME:20260516T120000Z
LOCATION:KunstSozialRaum Brunnenpassage, Brunnengasse 71, 1160 Wien
URL://www.xn--untergrund-blttle-2qb.ch/events/137295/igfem-bei-der-krilit-kunstsozialraum-brunnenpassage-wien.html
END:VEVENT
BEGIN:VTIMEZONE
TZID:Europe/Zurich
X-LIC-LOCATION:Europe/Zurich
BEGIN:STANDARD
DTSTART;VALUE=DATE-TIME:20260516T120000
TZNAME:CET
TZOFFSETFROM:+0200
TZOFFSETTO:+0100
END:STANDARD
BEGIN:DAYLIGHT
DTSTART;VALUE=DATE-TIME:20260516T120000
TZNAME:CEST
TZOFFSETFROM:+0100
TZOFFSETTO:+0200
END:DAYLIGHT
BEGIN:STANDARD
DTSTART;VALUE=DATE-TIME:20260516T120000
TZNAME:CET
TZOFFSETFROM:+0200
TZOFFSETTO:+0100
END:STANDARD
END:VTIMEZONE
END:VCALENDAR